BEGIN:VCALENDAR
VERSION:2.0
PRODID:-//sandbox-previous.getlivesite.com//NONSGML calendar-event//EN
METHOD:PUBLISH
BEGIN:VEVENT
UID:401776766391
DTSTAMP:20260420T130000
DTSTART:20260420T130000
DTEND:20260420T135500
LOCATION:
SUMMARY:Widget Training Session III
DESCRIPTION:Widget Training Session III
RRULE:FREQ=DAILY;COUNT=5
END:VEVENT
END:VCALENDAR